Package: fmcsR Version: 1.34.0 Command: chmod a+r fmcsR -R && C:\Users\biocbuild\bbs-3.13-bioc\R\bin\R.exe CMD build --keep-empty-dirs --no-resave-data fmcsR StartedAt: 2021-10-14 14:15:54 -0400 (Thu, 14 Oct 2021) EndedAt: 2021-10-14 14:17:05 -0400 (Thu, 14 Oct 2021) EllapsedTime: 70.7 seconds RetCode: 0 Status: OK PackageFile: fmcsR_1.34.0.tar.gz PackageFileSize: 448.9 KiB