Package: fmcsR Version: 1.34.0 Command: C:\cygwin\bin\curl.exe -O http://155.52.207.165/BBS/3.13/bioc/src/contrib/fmcsR_1.34.0.tar.gz && rm -rf fmcsR.buildbin-libdir && mkdir fmcsR.buildbin-libdir && C:\Users\biocbuild\bbs-3.13-bioc\R\bin\R.exe CMD INSTALL --merge-multiarch --build --library=fmcsR.buildbin-libdir fmcsR_1.34.0.tar.gz && C:\Users\biocbuild\bbs-3.13-bioc\R\bin\R.exe CMD INSTALL fmcsR_1.34.0.zip && rm fmcsR_1.34.0.tar.gz fmcsR_1.34.0.zip StartedAt: 2021-10-14 08:40:54 -0400 (Thu, 14 Oct 2021) EndedAt: 2021-10-14 08:42:43 -0400 (Thu, 14 Oct 2021) EllapsedTime: 109.2 seconds RetCode: 0 Status: OK