Package: fmrs Version: 1.2.0 Command: /Library/Frameworks/R.framework/Versions/Current/Resources/bin/R CMD check --install=check:fmrs.install-out.txt --library=/Library/Frameworks/R.framework/Versions/Current/Resources/library --no-vignettes --timings fmrs_1.2.0.tar.gz StartedAt: 2021-10-14 19:10:27 -0400 (Thu, 14 Oct 2021) EndedAt: 2021-10-14 19:11:29 -0400 (Thu, 14 Oct 2021) EllapsedTime: 62.4 seconds RetCode: 0 Status: OK CheckDir: fmrs.Rcheck Warnings: 0