Package: frenchFISH Version: 1.4.0 Command: /home/biocbuild/bbs-3.13-bioc/R/bin/R CMD build --keep-empty-dirs --no-resave-data frenchFISH StartedAt: 2021-10-14 07:17:47 -0400 (Thu, 14 Oct 2021) EndedAt: 2021-10-14 07:17:51 -0400 (Thu, 14 Oct 2021) EllapsedTime: 4.3 seconds RetCode: 0 Status: OK PackageFile: frenchFISH_1.4.0.tar.gz PackageFileSize: 20.58 KiB