Package: frmaTools Version: 1.44.0 Command: /home/biocbuild/bbs-3.13-bioc/R/bin/R CMD INSTALL frmaTools StartedAt: 2021-10-14 06:05:29 -0400 (Thu, 14 Oct 2021) EndedAt: 2021-10-14 06:05:33 -0400 (Thu, 14 Oct 2021) EllapsedTime: 3.6 seconds RetCode: 0 Status: OK