Package: gaga Version: 2.38.0 Command: chmod a+r gaga -R && C:\Users\biocbuild\bbs-3.13-bioc\R\bin\R.exe CMD build --keep-empty-dirs --no-resave-data gaga StartedAt: 2021-10-14 14:17:58 -0400 (Thu, 14 Oct 2021) EndedAt: 2021-10-14 14:18:31 -0400 (Thu, 14 Oct 2021) EllapsedTime: 33.2 seconds RetCode: 0 Status: OK PackageFile: gaga_2.38.0.tar.gz PackageFileSize: 442.8 KiB