Package: gaggle Version: 1.60.0 Command: rm -rf gaggle.buildbin-libdir && mkdir gaggle.buildbin-libdir && /Users/biocbuild/BBS/utils/build-universal.sh gaggle_1.60.0.tar.gz /Library/Frameworks/R.framework/Versions/Current/Resources/bin/R gaggle.buildbin-libdir StartedAt: 2021-10-15 02:28:34 -0400 (Fri, 15 Oct 2021) EndedAt: 2021-10-15 02:29:32 -0400 (Fri, 15 Oct 2021) EllapsedTime: 58.5 seconds RetCode: 0 Status: OK PackageFile: gaggle_1.60.0.tgz PackageFileSize: 323.4 KiB