Package: gaggle Version: 1.60.0 Command: /home/biocbuild/bbs-3.13-bioc/R/bin/R CMD check --install=check:gaggle.install-out.txt --library=/home/biocbuild/bbs-3.13-bioc/R/library --no-vignettes --timings gaggle_1.60.0.tar.gz StartedAt: 2021-10-14 09:54:13 -0400 (Thu, 14 Oct 2021) EndedAt: 2021-10-14 09:54:42 -0400 (Thu, 14 Oct 2021) EllapsedTime: 29.0 seconds RetCode: 0 Status: OK CheckDir: gaggle.Rcheck Warnings: 0