Package: gaggle Version: 1.60.0 Command: /home/biocbuild/bbs-3.13-bioc/R/bin/R CMD INSTALL gaggle StartedAt: 2021-10-14 06:05:51 -0400 (Thu, 14 Oct 2021) EndedAt: 2021-10-14 06:06:03 -0400 (Thu, 14 Oct 2021) EllapsedTime: 12.3 seconds RetCode: 0 Status: OK