Package: garfield Version: 1.20.0 Command: rm -rf garfield.buildbin-libdir && mkdir garfield.buildbin-libdir && /Users/biocbuild/BBS/utils/build-universal.sh garfield_1.20.0.tar.gz /Library/Frameworks/R.framework/Versions/Current/Resources/bin/R garfield.buildbin-libdir StartedAt: 2021-10-15 02:28:54 -0400 (Fri, 15 Oct 2021) EndedAt: 2021-10-15 02:29:59 -0400 (Fri, 15 Oct 2021) EllapsedTime: 64.6 seconds RetCode: 0 Status: OK PackageFile: garfield_1.20.0.tgz PackageFileSize: 385.4 KiB