Package: garfield Version: 1.20.0 Command: rm -rf garfield.buildbin-libdir && mkdir garfield.buildbin-libdir && C:\Users\biocbuild\bbs-3.13-bioc\R\bin\R.exe CMD INSTALL --merge-multiarch --build --library=garfield.buildbin-libdir garfield_1.20.0.tar.gz StartedAt: 2021-10-15 09:25:55 -0400 (Fri, 15 Oct 2021) EndedAt: 2021-10-15 09:27:17 -0400 (Fri, 15 Oct 2021) EllapsedTime: 81.3 seconds RetCode: 0 Status: OK PackageFile: garfield_1.20.0.zip PackageFileSize: 1.042 MiB