Package: garfield Version: 1.20.0 Command: chmod a+r garfield -R && C:\Users\biocbuild\bbs-3.13-bioc\R\bin\R.exe CMD build --keep-empty-dirs --no-resave-data garfield StartedAt: 2021-10-14 14:18:56 -0400 (Thu, 14 Oct 2021) EndedAt: 2021-10-14 14:19:19 -0400 (Thu, 14 Oct 2021) EllapsedTime: 23.0 seconds RetCode: 0 Status: OK PackageFile: garfield_1.20.0.tar.gz PackageFileSize: 300.2 KiB