Package: gcapc Version: 1.16.0 Command: /home/biocbuild/bbs-3.13-bioc/R/bin/R CMD build --keep-empty-dirs --no-resave-data gcapc StartedAt: 2021-10-14 07:18:42 -0400 (Thu, 14 Oct 2021) EndedAt: 2021-10-14 07:22:01 -0400 (Thu, 14 Oct 2021) EllapsedTime: 199.3 seconds RetCode: 0 Status: OK PackageFile: gcapc_1.16.0.tar.gz PackageFileSize: 3.763 MiB