Package: gcapc Version: 1.16.0 Command: /home/biocbuild/bbs-3.13-bioc/R/bin/R CMD INSTALL gcapc StartedAt: 2021-10-14 06:24:51 -0400 (Thu, 14 Oct 2021) EndedAt: 2021-10-14 06:25:19 -0400 (Thu, 14 Oct 2021) EllapsedTime: 28.3 seconds RetCode: 0 Status: OK