Package: gcatest Version: 1.22.0 Command: /Library/Frameworks/R.framework/Versions/Current/Resources/bin/R CMD build --keep-empty-dirs --no-resave-data gcatest StartedAt: 2021-10-14 12:11:14 -0400 (Thu, 14 Oct 2021) EndedAt: 2021-10-14 12:11:43 -0400 (Thu, 14 Oct 2021) EllapsedTime: 29.1 seconds RetCode: 0 Status: OK PackageFile: gcatest_1.22.0.tar.gz PackageFileSize: 2.115 MiB