Package: gcatest Version: 1.22.0 Command: /home/biocbuild/bbs-3.13-bioc/R/bin/R CMD build --keep-empty-dirs --no-resave-data gcatest StartedAt: 2021-10-14 07:18:43 -0400 (Thu, 14 Oct 2021) EndedAt: 2021-10-14 07:18:59 -0400 (Thu, 14 Oct 2021) EllapsedTime: 16.1 seconds RetCode: 0 Status: OK PackageFile: gcatest_1.22.0.tar.gz PackageFileSize: 2.115 MiB