Package: gcatest Version: 1.22.0 Command: /home/biocbuild/bbs-3.13-bioc/R/bin/R CMD check --install=check:gcatest.install-out.txt --library=/home/biocbuild/bbs-3.13-bioc/R/library --no-vignettes --timings gcatest_1.22.0.tar.gz StartedAt: 2021-10-14 09:54:43 -0400 (Thu, 14 Oct 2021) EndedAt: 2021-10-14 09:55:11 -0400 (Thu, 14 Oct 2021) EllapsedTime: 28.3 seconds RetCode: 0 Status: OK CheckDir: gcatest.Rcheck Warnings: 0