Package: gcatest Version: 1.22.0 Command: chmod a+r gcatest -R && C:\Users\biocbuild\bbs-3.13-bioc\R\bin\R.exe CMD build --keep-empty-dirs --no-resave-data gcatest StartedAt: 2021-10-14 14:19:35 -0400 (Thu, 14 Oct 2021) EndedAt: 2021-10-14 14:20:12 -0400 (Thu, 14 Oct 2021) EllapsedTime: 36.1 seconds RetCode: 0 Status: OK PackageFile: gcatest_1.22.0.tar.gz PackageFileSize: 2.116 MiB