Package: gdsfmt Version: 1.28.1 Command: chmod a+r gdsfmt -R && C:\Users\biocbuild\bbs-3.13-bioc\R\bin\R.exe CMD build --keep-empty-dirs --no-resave-data gdsfmt StartedAt: 2021-10-14 14:20:53 -0400 (Thu, 14 Oct 2021) EndedAt: 2021-10-14 14:25:06 -0400 (Thu, 14 Oct 2021) EllapsedTime: 253.2 seconds RetCode: 0 Status: OK PackageFile: gdsfmt_1.28.1.tar.gz PackageFileSize: 3.041 MiB