Package: geNetClassifier Version: 1.32.0 Command: /home/biocbuild/bbs-3.13-bioc/R/bin/R CMD build --keep-empty-dirs --no-resave-data geNetClassifier StartedAt: 2021-10-14 07:20:05 -0400 (Thu, 14 Oct 2021) EndedAt: 2021-10-14 07:20:21 -0400 (Thu, 14 Oct 2021) EllapsedTime: 15.2 seconds RetCode: 0 Status: OK PackageFile: geNetClassifier_1.32.0.tar.gz PackageFileSize: 3.687 MiB