git_url: https://git.bioconductor.org/packages/genbankr git_branch: RELEASE_3_13 git_last_commit: 968c425 git_last_commit_date: 2021-05-19 12:19:55 -0400 (Wed, 19 May 2021) Package: genbankr Version: 1.20.0 Maintainer: Gabriel Becker MaintainerEmail: becker.gabriel at gene.com