Package: genbankr Version: 1.20.0 Command: rm -rf genbankr.buildbin-libdir && mkdir genbankr.buildbin-libdir && C:\Users\biocbuild\bbs-3.13-bioc\R\bin\R.exe CMD INSTALL --merge-multiarch --build --library=genbankr.buildbin-libdir genbankr_1.20.0.tar.gz StartedAt: 2021-10-15 09:28:07 -0400 (Fri, 15 Oct 2021) EndedAt: 2021-10-15 09:29:22 -0400 (Fri, 15 Oct 2021) EllapsedTime: 75.0 seconds RetCode: 0 Status: OK PackageFile: genbankr_1.20.0.zip PackageFileSize: 1.07 MiB