Package: geneClassifiers Version: 1.16.0 Command: /Library/Frameworks/R.framework/Versions/Current/Resources/bin/R CMD check --install=check:geneClassifiers.install-out.txt --library=/Library/Frameworks/R.framework/Versions/Current/Resources/library --no-vignettes --timings geneClassifiers_1.16.0.tar.gz StartedAt: 2021-10-14 19:19:09 -0400 (Thu, 14 Oct 2021) EndedAt: 2021-10-14 19:20:04 -0400 (Thu, 14 Oct 2021) EllapsedTime: 55.6 seconds RetCode: 0 Status: OK CheckDir: geneClassifiers.Rcheck Warnings: 0