git_url: https://git.bioconductor.org/packages/geneRecommender git_branch: RELEASE_3_13 git_last_commit: 5e408e1 git_last_commit_date: 2021-05-19 11:35:45 -0400 (Wed, 19 May 2021) Package: geneRecommender Version: 1.64.0 Maintainer: Greg Hather MaintainerEmail: ghather at stat.berkeley.edu