Package: geneRecommender Version: 1.64.0 Command: rm -rf geneRecommender.buildbin-libdir && mkdir geneRecommender.buildbin-libdir && C:\Users\biocbuild\bbs-3.13-bioc\R\bin\R.exe CMD INSTALL --merge-multiarch --build --library=geneRecommender.buildbin-libdir geneRecommender_1.64.0.tar.gz StartedAt: 2021-10-15 09:30:19 -0400 (Fri, 15 Oct 2021) EndedAt: 2021-10-15 09:31:45 -0400 (Fri, 15 Oct 2021) EllapsedTime: 86.2 seconds RetCode: 0 Status: OK PackageFile: geneRecommender_1.64.0.zip PackageFileSize: 196.1 KiB