Package: genomation Version: 1.24.0 Command: rm -rf genomation.buildbin-libdir && mkdir genomation.buildbin-libdir && /Users/biocbuild/BBS/utils/build-universal.sh genomation_1.24.0.tar.gz /Library/Frameworks/R.framework/Versions/Current/Resources/bin/R genomation.buildbin-libdir StartedAt: 2021-10-15 02:32:45 -0400 (Fri, 15 Oct 2021) EndedAt: 2021-10-15 02:33:50 -0400 (Fri, 15 Oct 2021) EllapsedTime: 64.4 seconds RetCode: 0 Status: OK PackageFile: genomation_1.24.0.tgz PackageFileSize: 3.034 MiB