git_url: https://git.bioconductor.org/packages/genomeIntervals git_branch: RELEASE_3_13 git_last_commit: ab17e64 git_last_commit_date: 2021-05-19 11:42:47 -0400 (Wed, 19 May 2021) Package: genomeIntervals Version: 1.48.0 Maintainer: Julien Gagneur MaintainerEmail: gagneur at in.tum.de