git_url: https://git.bioconductor.org/packages/gep2pep git_branch: RELEASE_3_13 git_last_commit: c8755ce git_last_commit_date: 2021-05-19 12:32:02 -0400 (Wed, 19 May 2021) Package: gep2pep Version: 1.12.0 Maintainer: Francesco Napolitano MaintainerEmail: franapoli at gmail.com