Package: gep2pep Version: 1.12.0 Command: /home/biocbuild/bbs-3.13-bioc/R/bin/R CMD build --keep-empty-dirs --no-resave-data gep2pep StartedAt: 2021-10-14 07:21:40 -0400 (Thu, 14 Oct 2021) EndedAt: 2021-10-14 07:22:02 -0400 (Thu, 14 Oct 2021) EllapsedTime: 22.1 seconds RetCode: 0 Status: OK PackageFile: gep2pep_1.12.0.tar.gz PackageFileSize: 118.7 KiB