Package: gep2pep Version: 1.12.0 Command: /home/biocbuild/bbs-3.13-bioc/R/bin/R CMD INSTALL gep2pep StartedAt: 2021-10-14 06:20:21 -0400 (Thu, 14 Oct 2021) EndedAt: 2021-10-14 06:20:36 -0400 (Thu, 14 Oct 2021) EllapsedTime: 15.0 seconds RetCode: 0 Status: OK