Package: gep2pep Version: 1.12.0 Command: chmod a+r gep2pep -R && C:\Users\biocbuild\bbs-3.13-bioc\R\bin\R.exe CMD build --keep-empty-dirs --no-resave-data gep2pep StartedAt: 2021-10-14 14:29:47 -0400 (Thu, 14 Oct 2021) EndedAt: 2021-10-14 14:31:24 -0400 (Thu, 14 Oct 2021) EllapsedTime: 96.4 seconds RetCode: 0 Status: OK PackageFile: gep2pep_1.12.0.tar.gz PackageFileSize: 120 KiB