Package: gep2pep Version: 1.12.0 Command: C:\cygwin\bin\curl.exe -O http://155.52.207.165/BBS/3.13/bioc/src/contrib/gep2pep_1.12.0.tar.gz && rm -rf gep2pep.buildbin-libdir && mkdir gep2pep.buildbin-libdir && C:\Users\biocbuild\bbs-3.13-bioc\R\bin\R.exe CMD INSTALL --merge-multiarch --build --library=gep2pep.buildbin-libdir gep2pep_1.12.0.tar.gz && C:\Users\biocbuild\bbs-3.13-bioc\R\bin\R.exe CMD INSTALL gep2pep_1.12.0.zip && rm gep2pep_1.12.0.tar.gz gep2pep_1.12.0.zip StartedAt: 2021-10-14 09:20:08 -0400 (Thu, 14 Oct 2021) EndedAt: 2021-10-14 09:20:59 -0400 (Thu, 14 Oct 2021) EllapsedTime: 51.1 seconds RetCode: 0 Status: OK