Package: gespeR Version: 1.24.0 Command: rm -rf gespeR.buildbin-libdir && mkdir gespeR.buildbin-libdir && /Users/biocbuild/BBS/utils/build-universal.sh gespeR_1.24.0.tar.gz /Library/Frameworks/R.framework/Versions/Current/Resources/bin/R gespeR.buildbin-libdir StartedAt: 2021-10-15 02:34:48 -0400 (Fri, 15 Oct 2021) EndedAt: 2021-10-15 02:35:58 -0400 (Fri, 15 Oct 2021) EllapsedTime: 70.1 seconds RetCode: 0 Status: OK PackageFile: gespeR_1.24.0.tgz PackageFileSize: 2.806 MiB