Package: gespeR Version: 1.24.0 Command: /home/biocbuild/bbs-3.13-bioc/R/bin/R CMD check --install=check:gespeR.install-out.txt --library=/home/biocbuild/bbs-3.13-bioc/R/library --no-vignettes --timings gespeR_1.24.0.tar.gz StartedAt: 2021-10-14 10:00:12 -0400 (Thu, 14 Oct 2021) EndedAt: 2021-10-14 10:04:06 -0400 (Thu, 14 Oct 2021) EllapsedTime: 233.7 seconds RetCode: 0 Status: WARNINGS CheckDir: gespeR.Rcheck Warnings: 1