Package: ggbio Version: 1.40.0 Command: /Library/Frameworks/R.framework/Versions/Current/Resources/bin/R CMD INSTALL ggbio StartedAt: 2021-10-14 10:10:45 -0400 (Thu, 14 Oct 2021) EndedAt: 2021-10-14 10:11:53 -0400 (Thu, 14 Oct 2021) EllapsedTime: 68.7 seconds RetCode: 0 Status: OK