Package: ggbio Version: 1.40.0 Command: C:\cygwin\bin\curl.exe -O http://155.52.207.165/BBS/3.13/bioc/src/contrib/ggbio_1.40.0.tar.gz && rm -rf ggbio.buildbin-libdir && mkdir ggbio.buildbin-libdir && C:\Users\biocbuild\bbs-3.13-bioc\R\bin\R.exe CMD INSTALL --merge-multiarch --build --library=ggbio.buildbin-libdir ggbio_1.40.0.tar.gz && C:\Users\biocbuild\bbs-3.13-bioc\R\bin\R.exe CMD INSTALL ggbio_1.40.0.zip && rm ggbio_1.40.0.tar.gz ggbio_1.40.0.zip StartedAt: 2021-10-14 10:50:20 -0400 (Thu, 14 Oct 2021) EndedAt: 2021-10-14 10:51:49 -0400 (Thu, 14 Oct 2021) EllapsedTime: 88.5 seconds RetCode: 0 Status: OK