git_url: https://git.bioconductor.org/packages/ggcyto git_branch: RELEASE_3_13 git_last_commit: 0fbbab2 git_last_commit_date: 2021-05-19 12:17:22 -0400 (Wed, 19 May 2021) Package: ggcyto Version: 1.20.0 Maintainer: Mike Jiang ,Jake Wagner MaintainerEmail: jpwagner at fhcrc.org