Package: ggcyto Version: 1.20.0 Command: /Library/Frameworks/R.framework/Versions/Current/Resources/bin/R CMD build --keep-empty-dirs --no-resave-data ggcyto StartedAt: 2021-10-14 12:18:50 -0400 (Thu, 14 Oct 2021) EndedAt: 2021-10-14 12:20:38 -0400 (Thu, 14 Oct 2021) EllapsedTime: 108.6 seconds RetCode: 0 Status: OK PackageFile: ggcyto_1.20.0.tar.gz PackageFileSize: 16.76 MiB