git_url: https://git.bioconductor.org/packages/glmGamPoi git_branch: RELEASE_3_13 git_last_commit: 908a0c3 git_last_commit_date: 2021-05-19 12:51:11 -0400 (Wed, 19 May 2021) Package: glmGamPoi Version: 1.4.0 Maintainer: Constantin Ahlmann-Eltze MaintainerEmail: artjom31415 at googlemail.com