Package: glmSparseNet Version: 1.10.0 Command: /home/biocbuild/bbs-3.13-bioc/R/bin/R CMD build --keep-empty-dirs --no-resave-data glmSparseNet StartedAt: 2021-10-14 07:22:25 -0400 (Thu, 14 Oct 2021) EndedAt: 2021-10-14 07:26:48 -0400 (Thu, 14 Oct 2021) EllapsedTime: 263.0 seconds RetCode: 0 Status: OK PackageFile: glmSparseNet_1.10.0.tar.gz PackageFileSize: 2.58 MiB