Package: glmSparseNet Version: 1.10.0 Command: /home/biocbuild/bbs-3.13-bioc/R/bin/R CMD INSTALL glmSparseNet StartedAt: 2021-10-14 06:33:52 -0400 (Thu, 14 Oct 2021) EndedAt: 2021-10-14 06:34:14 -0400 (Thu, 14 Oct 2021) EllapsedTime: 21.7 seconds RetCode: 0 Status: OK