Package: glmSparseNet Version: 1.10.0 Command: C:\Users\biocbuild\bbs-3.13-bioc\R\bin\R.exe CMD check --force-multiarch --install=check:glmSparseNet.install-out.txt --library=C:\Users\biocbuild\bbs-3.13-bioc\R\library --no-vignettes --timings glmSparseNet_1.10.0.tar.gz StartedAt: 2021-10-14 23:52:43 -0400 (Thu, 14 Oct 2021) EndedAt: 2021-10-14 23:58:36 -0400 (Thu, 14 Oct 2021) EllapsedTime: 353.3 seconds RetCode: 0 Status: OK CheckDir: glmSparseNet.Rcheck Warnings: 0