Package: glmSparseNet Version: 1.10.0 Command: C:\cygwin\bin\curl.exe -O http://155.52.207.165/BBS/3.13/bioc/src/contrib/glmSparseNet_1.10.0.tar.gz && rm -rf glmSparseNet.buildbin-libdir && mkdir glmSparseNet.buildbin-libdir && C:\Users\biocbuild\bbs-3.13-bioc\R\bin\R.exe CMD INSTALL --merge-multiarch --build --library=glmSparseNet.buildbin-libdir glmSparseNet_1.10.0.tar.gz && C:\Users\biocbuild\bbs-3.13-bioc\R\bin\R.exe CMD INSTALL glmSparseNet_1.10.0.zip && rm glmSparseNet_1.10.0.tar.gz glmSparseNet_1.10.0.zip StartedAt: 2021-10-14 11:08:33 -0400 (Thu, 14 Oct 2021) EndedAt: 2021-10-14 11:09:39 -0400 (Thu, 14 Oct 2021) EllapsedTime: 65.9 seconds RetCode: 0 Status: OK