Package: gmapR Version: 1.34.0 Command: /home/biocbuild/bbs-3.13-bioc/R/bin/R CMD check --install=check:gmapR.install-out.txt --library=/home/biocbuild/bbs-3.13-bioc/R/library --no-vignettes --timings gmapR_1.34.0.tar.gz StartedAt: 2021-10-14 10:02:48 -0400 (Thu, 14 Oct 2021) EndedAt: 2021-10-14 10:09:44 -0400 (Thu, 14 Oct 2021) EllapsedTime: 416.8 seconds RetCode: 0 Status: WARNINGS CheckDir: gmapR.Rcheck Warnings: 5