Package: goProfiles Version: 1.54.0 Command: rm -rf goProfiles.buildbin-libdir && mkdir goProfiles.buildbin-libdir && /Users/biocbuild/BBS/utils/build-universal.sh goProfiles_1.54.0.tar.gz /Library/Frameworks/R.framework/Versions/Current/Resources/bin/R goProfiles.buildbin-libdir StartedAt: 2021-10-15 02:37:19 -0400 (Fri, 15 Oct 2021) EndedAt: 2021-10-15 02:38:12 -0400 (Fri, 15 Oct 2021) EllapsedTime: 53.9 seconds RetCode: 0 Status: OK PackageFile: goProfiles_1.54.0.tgz PackageFileSize: 496.2 KiB