Package: goProfiles Version: 1.54.0 Command: /Library/Frameworks/R.framework/Versions/Current/Resources/bin/R CMD build --keep-empty-dirs --no-resave-data goProfiles StartedAt: 2021-10-14 12:22:27 -0400 (Thu, 14 Oct 2021) EndedAt: 2021-10-14 12:23:22 -0400 (Thu, 14 Oct 2021) EllapsedTime: 55.7 seconds RetCode: 0 Status: OK PackageFile: goProfiles_1.54.0.tar.gz PackageFileSize: 284.1 KiB