Package: goProfiles Version: 1.54.0 Command: rm -rf goProfiles.buildbin-libdir && mkdir goProfiles.buildbin-libdir && C:\Users\biocbuild\bbs-3.13-bioc\R\bin\R.exe CMD INSTALL --merge-multiarch --build --library=goProfiles.buildbin-libdir goProfiles_1.54.0.tar.gz StartedAt: 2021-10-15 09:38:43 -0400 (Fri, 15 Oct 2021) EndedAt: 2021-10-15 09:40:06 -0400 (Fri, 15 Oct 2021) EllapsedTime: 83.1 seconds RetCode: 0 Status: OK PackageFile: goProfiles_1.54.0.zip PackageFileSize: 571.1 KiB