Package: goProfiles Version: 1.54.0 Command: chmod a+r goProfiles -R && C:\Users\biocbuild\bbs-3.13-bioc\R\bin\R.exe CMD build --keep-empty-dirs --no-resave-data goProfiles StartedAt: 2021-10-14 14:35:37 -0400 (Thu, 14 Oct 2021) EndedAt: 2021-10-14 14:36:29 -0400 (Thu, 14 Oct 2021) EllapsedTime: 52.0 seconds RetCode: 0 Status: OK PackageFile: goProfiles_1.54.0.tar.gz PackageFileSize: 284 KiB