Package: goProfiles Version: 1.54.0 Command: C:\Users\biocbuild\bbs-3.13-bioc\R\bin\R.exe CMD check --force-multiarch --install=check:goProfiles.install-out.txt --library=C:\Users\biocbuild\bbs-3.13-bioc\R\library --no-vignettes --timings goProfiles_1.54.0.tar.gz StartedAt: 2021-10-14 23:57:30 -0400 (Thu, 14 Oct 2021) EndedAt: 2021-10-15 00:02:12 -0400 (Fri, 15 Oct 2021) EllapsedTime: 281.7 seconds RetCode: 0 Status: OK CheckDir: goProfiles.Rcheck Warnings: 0