Package: goProfiles Version: 1.54.0 Command: C:\cygwin\bin\curl.exe -O http://155.52.207.165/BBS/3.13/bioc/src/contrib/goProfiles_1.54.0.tar.gz && rm -rf goProfiles.buildbin-libdir && mkdir goProfiles.buildbin-libdir && C:\Users\biocbuild\bbs-3.13-bioc\R\bin\R.exe CMD INSTALL --merge-multiarch --build --library=goProfiles.buildbin-libdir goProfiles_1.54.0.tar.gz && C:\Users\biocbuild\bbs-3.13-bioc\R\bin\R.exe CMD INSTALL goProfiles_1.54.0.zip && rm goProfiles_1.54.0.tar.gz goProfiles_1.54.0.zip StartedAt: 2021-10-14 08:34:04 -0400 (Thu, 14 Oct 2021) EndedAt: 2021-10-14 08:34:42 -0400 (Thu, 14 Oct 2021) EllapsedTime: 38.2 seconds RetCode: 0 Status: OK